BEGIN:VCALENDAR
PRODID:-//AT Content Types//AT Event//EN
VERSION:2.0
METHOD:PUBLISH
BEGIN:VEVENT
DTSTAMP:20260423T120000Z
CREATED:20260423T120000Z
UID:1530d5bb-0d62-42ac-a812-2ee2c1bd917a
LAST-MODIFIED:20260423T120000Z
SUMMARY:Weekend ai Musei Civici - 25-26/4
DTSTART:20260425T110000Z
DTEND:20260426T060000Z
DESCRIPTION:Eventi per scoprire il patrimonio dei Musei Civici di Parma nelle giornate del 25 e 26 aprile 2026.

LOCATION:- STR MELLONI MACEDONIO 3/A, PARMA\n- BGO DEL PARMIGIANINO 2, PARMA\n
CATEGORIES:Multiple events
CLASS:PUBLIC
END:VEVENT
END:VCALENDAR