BEGIN:VCALENDAR
PRODID:-//AT Content Types//AT Event//EN
VERSION:2.0
METHOD:PUBLISH
BEGIN:VEVENT
DTSTAMP:20260416T120000Z
CREATED:20260416T120000Z
UID:99360b74-15c8-40ad-b6b9-bcd982f34140
LAST-MODIFIED:20260416T120000Z
SUMMARY:Stare bene… non solo a parole - 23/4
DTSTART:20260423T050000Z
DTEND:20260423T070000Z
DESCRIPTION:Parma welFARE: tornano gli incontri nei quartieri. Il 23 aprile si parla di cura della mamma prima e dopo il parto al Lubiana, di ginnastica e malattia cronica, al Pablo.
LOCATION:- VIA VENTIQUATTRO MAGGIO 63, PARMA\n- VIA ENRICO SARTORI 39/A, PARMA\n
CATEGORIES:Multiple events
CLASS:PUBLIC
END:VEVENT
END:VCALENDAR