BEGIN:VCALENDAR
PRODID:-//AT Content Types//AT Event//EN
VERSION:2.0
METHOD:PUBLISH
BEGIN:VEVENT
DTSTAMP:20260423T120000Z
CREATED:20260423T120000Z
UID:b4b3beab-261d-4ce2-ac60-1e17b67c27a6
LAST-MODIFIED:20260423T120000Z
SUMMARY:Quando gli occhi vedono - 5/5
DTSTART:20260505T060000Z
DTEND:20260505T080000Z
DESCRIPTION:L’autore Filippo Cattabiani racconta come riconoscere i segnali di difficoltà degli adolescenti.
LOCATION:- STR BIXIO NINO 71, PARMA\n
CATEGORIES:Multiple events
CLASS:PUBLIC
END:VEVENT
END:VCALENDAR