BEGIN:VCALENDAR
PRODID:-//AT Content Types//AT Event//EN
VERSION:1.0
BEGIN:VEVENT
DTSTART:20260415T050000Z
DTEND:20260415T060000Z
CREATED:20260413T120000Z
UID:4e86abdf-6bab-4ad0-805d-3ac0a6bd8021
SEQUENCE:0
LAST-MODIFIED:20260413T120000Z
SUMMARY:Il Segreto del Vecchio Quotidiano e del Foglio Smemorato - 15/4
DESCRIPTION:Un laboratorio con protagonisti la carta e i bambini, per sviluppare la manualità e la fantasia attraverso il riciclo. Per bambini dai 4 ai 6 anni.
LOCATION:- VICOLO SANTA MARIA 5/A, PARMA\n
PRIORITY:3
TRANSP:0
END:VEVENT
END:VCALENDAR