BEGIN:VCALENDAR
PRODID:-//AT Content Types//AT Event//EN
VERSION:1.0
BEGIN:VEVENT
DTSTART:20260423T050000Z
DTEND:20260423T063000Z
CREATED:20260421T120000Z
UID:840fc47f-e8fb-4ed4-bfec-0494ce549162
SEQUENCE:0
LAST-MODIFIED:20260421T120000Z
SUMMARY:Quando il sole la neve scioglie un fiore rosso vedi spuntare - 23/4
DESCRIPTION:Appuntamento per bambini e bambine dagli 8 anni e i loro accompagnatori.
LOCATION:
PRIORITY:3
TRANSP:0
END:VEVENT
END:VCALENDAR